BEGIN:VCALENDAR
VERSION:2.0
PRODID:-//OAS WEE - ECPv6.13.2.1//NONSGML v1.0//EN
CALSCALE:GREGORIAN
METHOD:PUBLISH
X-WR-CALNAME:OAS WEE
X-ORIGINAL-URL:https://wee-msme-clearinghouse.com
X-WR-CALDESC:Events for OAS WEE
REFRESH-INTERVAL;VALUE=DURATION:PT1H
X-Robots-Tag:noindex
X-PUBLISHED-TTL:PT1H
BEGIN:VTIMEZONE
TZID:America/Halifax
BEGIN:DAYLIGHT
TZOFFSETFROM:-0400
TZOFFSETTO:-0300
TZNAME:ADT
DTSTART:20230312T060000
END:DAYLIGHT
BEGIN:STANDARD
TZOFFSETFROM:-0300
TZOFFSETTO:-0400
TZNAME:AST
DTSTART:20231105T050000
END:STANDARD
END:VTIMEZONE
BEGIN:VEVENT
DTSTART;TZID=America/Halifax:20230808T140000
DTEND;TZID=America/Halifax:20230808T153000
DTSTAMP:20260425T110316
CREATED:20230616T172103Z
LAST-MODIFIED:20230620T224218Z
UID:10646-1691503200-1691508600@wee-msme-clearinghouse.com
SUMMARY:Learn How to Leverage Meta Platforms to Transform your Business - PART 2
DESCRIPTION:Topic 4: Getting started with META Business Suite \n\nReach more people: boost a post.\n\nTopic 5: WhatsApp Business \n\nLoading your business details.\nWhatsapp Web.\nAutomated messages.\nLabels.\nCatalog and cart.\nShort links and QR codes.\nLinking WhatsApp Business to Facebook and Instagram Accounts.\nWhatsapp Groups.\nEnd to end Encryption.\nTwo step verification.\n\n* Question and Answers
URL:https://wee-msme-clearinghouse.com/event/learn-how-to-leverage-meta-platforms-to-transform-your-business-part-2/
CATEGORIES:WEE
ATTACH;FMTTYPE=image/jpeg:https://wee-msme-clearinghouse.com/wp-content/uploads/2023/06/evento-8-8-23-2.jpg
END:VEVENT
END:VCALENDAR