BEGIN:VCALENDAR
VERSION:2.0
PRODID:-//OAS WEE - ECPv6.13.2.1//NONSGML v1.0//EN
CALSCALE:GREGORIAN
METHOD:PUBLISH
X-WR-CALNAME:OAS WEE
X-ORIGINAL-URL:https://wee-msme-clearinghouse.com
X-WR-CALDESC:Events for OAS WEE
REFRESH-INTERVAL;VALUE=DURATION:PT1H
X-Robots-Tag:noindex
X-PUBLISHED-TTL:PT1H
BEGIN:VTIMEZONE
TZID:America/Halifax
BEGIN:DAYLIGHT
TZOFFSETFROM:-0400
TZOFFSETTO:-0300
TZNAME:ADT
DTSTART:20230312T060000
END:DAYLIGHT
BEGIN:STANDARD
TZOFFSETFROM:-0300
TZOFFSETTO:-0400
TZNAME:AST
DTSTART:20231105T050000
END:STANDARD
END:VTIMEZONE
BEGIN:VEVENT
DTSTART;VALUE=DATE:20230904
DTEND;VALUE=DATE:20230906
DTSTAMP:20260425T091815
CREATED:20230911T162544Z
LAST-MODIFIED:20230922T011648Z
UID:11399-1693857600-1693943999@wee-msme-clearinghouse.com
SUMMARY:Launch of Train the Trainer Program for MSME Support Institutions in the Eastern Caribbean: Empowering Women in the Digital Economy
DESCRIPTION:The Executive Secretariat of the Organization of American States (OAS-SEDI) announces the launch of the Train the Trainer Program for Micro\, Small\, and Medium Enterprise (MSME) support institutions in the Eastern Caribbean. This initiative is a vital component of the OAS Women’s Economic Empowerment (WEE) Project\, aimed at empowering women entrepreneurs to benefit from opportunities in the digital and virtual economy.
URL:https://wee-msme-clearinghouse.com/event/launch-of-train-the-trainer-program-for-msme-support-institutions-in-the-eastern-caribbean-empowering-women-in-the-digital-economy/
CATEGORIES:WEE
ATTACH;FMTTYPE=image/jpeg:https://wee-msme-clearinghouse.com/wp-content/uploads/2023/09/OAS-WEE-Media-Statement-Launch-of-ToT-September-2023-jpg.webp
END:VEVENT
BEGIN:VEVENT
DTSTART;TZID=America/Halifax:20230914T140000
DTEND;TZID=America/Halifax:20230914T153000
DTSTAMP:20260425T091815
CREATED:20230824T010017Z
LAST-MODIFIED:20230829T224827Z
UID:11148-1694700000-1694705400@wee-msme-clearinghouse.com
SUMMARY:Advanced Training in Leveraging Meta Tools for Advancing Businesses - SESSION 1
DESCRIPTION:Session 1: Reach your Business Goals with Reels \n* Platforms to use reels \n* Creative shop apps \n* Customer journey \n* Reels first steps \n* Create a reel in 6 steps \n* How reels work \n* Reels ads \n* Reels best practices \n Register\n  \nNOTE: Both training sessions will be hands-on\, as such it is highly recommended that all participants attend the training from a computer in order to have their mobile phones ready for practical exercises
URL:https://wee-msme-clearinghouse.com/event/advanced-training-in-leveraging-meta-tools-for-advancing-businesses-session-1/
CATEGORIES:WEE
ATTACH;FMTTYPE=image/jpeg:https://wee-msme-clearinghouse.com/wp-content/uploads/2023/08/14-9-23-copia-1-jpg.webp
END:VEVENT
BEGIN:VEVENT
DTSTART;TZID=America/Halifax:20230926T140000
DTEND;TZID=America/Halifax:20230926T153000
DTSTAMP:20260425T091815
CREATED:20230824T010331Z
LAST-MODIFIED:20230828T165914Z
UID:11154-1695736800-1695742200@wee-msme-clearinghouse.com
SUMMARY:Advanced Training in Leveraging Meta Tools for Advancing Businesses - SESSION 2
DESCRIPTION:Session 2: Content Creation for Facebook and Instagram \n* Content creation ecosystem \n* Posts \n* Stories \n* Reels \n* Live broadcast \n* Events \n* Create a plan \n* Execute the digital marketing plan \n Register\n  \nNOTE: Both training sessions will be hands-on\, as such it is highly recommended that all participants attend the training from a computer in order to have their mobile phones ready for practical exercises.
URL:https://wee-msme-clearinghouse.com/event/advanced-training-in-leveraging-meta-tools-for-advancing-businesses-session-2/
CATEGORIES:WEE
ATTACH;FMTTYPE=image/jpeg:https://wee-msme-clearinghouse.com/wp-content/uploads/2023/08/26-9-23-copia-1-jpg.webp
END:VEVENT
END:VCALENDAR