BEGIN:VCALENDAR
VERSION:2.0
PRODID:-//OAS WEE - ECPv6.13.2.1//NONSGML v1.0//EN
CALSCALE:GREGORIAN
METHOD:PUBLISH
X-ORIGINAL-URL:https://wee-msme-clearinghouse.com
X-WR-CALDESC:Events for OAS WEE
REFRESH-INTERVAL;VALUE=DURATION:PT1H
X-Robots-Tag:noindex
X-PUBLISHED-TTL:PT1H
BEGIN:VTIMEZONE
TZID:America/Halifax
BEGIN:DAYLIGHT
TZOFFSETFROM:-0400
TZOFFSETTO:-0300
TZNAME:ADT
DTSTART:20250309T060000
END:DAYLIGHT
BEGIN:STANDARD
TZOFFSETFROM:-0300
TZOFFSETTO:-0400
TZNAME:AST
DTSTART:20251102T050000
END:STANDARD
END:VTIMEZONE
BEGIN:VEVENT
DTSTART;TZID=America/Halifax:20250828T080000
DTEND;TZID=America/Halifax:20250907T170000
DTSTAMP:20260421T141532
CREATED:20250828T123652Z
LAST-MODIFIED:20250828T123652Z
UID:13758-1756368000-1757264400@wee-msme-clearinghouse.com
SUMMARY:‼️ATENCIÓN‼️ Anuncio de contratación de servicios profesionales para la Actualización técnica y normativa de las guías de formalización y exportación para los países de Guatemala\, El Salvador y Honduras
DESCRIPTION:Tienes hasta el 7 de septiembre \n Más Información
URL:https://wee-msme-clearinghouse.com/event/%e2%80%bc%ef%b8%8fatencion%e2%80%bc%ef%b8%8f-anuncio-de-contratacion-de-servicios-profesionales-para-la-actualizacion-tecnica-y-normativa-de-las-guias-de-formalizacion-y-exportacion-para-los-paises-de/
CATEGORIES:WEE
ATTACH;FMTTYPE=image/jpeg:https://wee-msme-clearinghouse.com/wp-content/uploads/2025/08/EVENTO1.jpeg
END:VEVENT
END:VCALENDAR