BEGIN:VCALENDAR
VERSION:2.0
PRODID:-//OAS WEE - ECPv6.13.2.1//NONSGML v1.0//EN
CALSCALE:GREGORIAN
METHOD:PUBLISH
X-ORIGINAL-URL:https://wee-msme-clearinghouse.com
X-WR-CALDESC:Events for OAS WEE
REFRESH-INTERVAL;VALUE=DURATION:PT1H
X-Robots-Tag:noindex
X-PUBLISHED-TTL:PT1H
BEGIN:VTIMEZONE
TZID:America/Halifax
BEGIN:DAYLIGHT
TZOFFSETFROM:-0400
TZOFFSETTO:-0300
TZNAME:ADT
DTSTART:20230312T060000
END:DAYLIGHT
BEGIN:STANDARD
TZOFFSETFROM:-0300
TZOFFSETTO:-0400
TZNAME:AST
DTSTART:20231105T050000
END:STANDARD
END:VTIMEZONE
BEGIN:VEVENT
DTSTART;VALUE=DATE:20230307
DTEND;VALUE=DATE:20230309
DTSTAMP:20260425T205706
CREATED:20230627T172240Z
LAST-MODIFIED:20230627T172240Z
UID:10795-1678219200-1678305599@wee-msme-clearinghouse.com
SUMMARY:International Women's Day
DESCRIPTION:DigitALL: \nINNOVATION AND TECHNOLOGY FOR GENDER EQUALITY
URL:https://wee-msme-clearinghouse.com/event/international-womens-day/
CATEGORIES:WEE
ATTACH;FMTTYPE=image/jpeg:https://wee-msme-clearinghouse.com/wp-content/uploads/2023/06/March8.jpg
END:VEVENT
END:VCALENDAR