BEGIN:VCALENDAR
VERSION:2.0
PRODID:-//OAS WEE - ECPv6.13.2.1//NONSGML v1.0//EN
CALSCALE:GREGORIAN
METHOD:PUBLISH
X-WR-CALNAME:OAS WEE
X-ORIGINAL-URL:https://wee-msme-clearinghouse.com
X-WR-CALDESC:Events for OAS WEE
REFRESH-INTERVAL;VALUE=DURATION:PT1H
X-Robots-Tag:noindex
X-PUBLISHED-TTL:PT1H
BEGIN:VTIMEZONE
TZID:America/Halifax
BEGIN:DAYLIGHT
TZOFFSETFROM:-0400
TZOFFSETTO:-0300
TZNAME:ADT
DTSTART:20230312T060000
END:DAYLIGHT
BEGIN:STANDARD
TZOFFSETFROM:-0300
TZOFFSETTO:-0400
TZNAME:AST
DTSTART:20231105T050000
END:STANDARD
END:VTIMEZONE
BEGIN:VEVENT
DTSTART;TZID=America/Halifax:20230628T040000
DTEND;TZID=America/Halifax:20230628T073000
DTSTAMP:20260425T141712
CREATED:20230627T230636Z
LAST-MODIFIED:20230920T185224Z
UID:10798-1687924800-1687937400@wee-msme-clearinghouse.com
SUMMARY:Webinar: Aplicación del Metaverso
DESCRIPTION:Dirigido a: \n\nInstancias de los países del Triángulo Norte (Guatemala\, Honduras y El Salvador).\nInstituciones del Ecosistema de Desarrollo Empresarial Empresas lideradas por mujeres.\nEntidades rectoras de la MIPYME.\n\n  \nAgenda\nBienvenida  – 8:00 a 8:10 am\nApertura  – 8:00 a 8:10 am \n\nRepresentante de OEA.\nRepresentante de SICA-CENPROMYPE.\nRepresentante de CAMTIC-CR.\n\nPresentación de Charlas  – 8:00 a 8:10 am\nCharla Introductoria \n\nMetaverso y su importancia para la región.\nRetos y oportunidades sobre la aplicación del METAVERSO en el sector empresarial centroamericano Q&A.\n\nAspectos jurídicos y normativos sobre la aplicación del METAVERSO en las empresas a nivel regional  – 8:00 a 8:10 am \n\nAlgunos escenarios relacionados al metaverso desde la perspectiva legal Q&A\n\nPresentación de Casos de aplicación del METAVERSO en empresas costarricenses  – 8:00 a 8:10 am \n\nCaso 1: Tecnologías inmersivas Q&A\nCaso 2: Una aproximación desde las economías creativas (Capítulo Audiovisual de CAMTIC) Q&A\n\nClausura del evento y agradecimiento final. \n Enlace de registro\n Descargar Invitación en PDF\n 
URL:https://wee-msme-clearinghouse.com/event/webinar-aplicacion-del-multiverso/
CATEGORIES:WEE
ATTACH;FMTTYPE=image/jpeg:https://wee-msme-clearinghouse.com/wp-content/uploads/2023/06/web_inter.jpg
END:VEVENT
END:VCALENDAR