BEGIN:VCALENDAR
VERSION:2.0
PRODID:-//OAS WEE - ECPv6.13.2.1//NONSGML v1.0//EN
CALSCALE:GREGORIAN
METHOD:PUBLISH
X-WR-CALNAME:OAS WEE
X-ORIGINAL-URL:https://wee-msme-clearinghouse.com
X-WR-CALDESC:Events for OAS WEE
REFRESH-INTERVAL;VALUE=DURATION:PT1H
X-Robots-Tag:noindex
X-PUBLISHED-TTL:PT1H
BEGIN:VTIMEZONE
TZID:America/Halifax
BEGIN:DAYLIGHT
TZOFFSETFROM:-0400
TZOFFSETTO:-0300
TZNAME:ADT
DTSTART:20230312T060000
END:DAYLIGHT
BEGIN:STANDARD
TZOFFSETFROM:-0300
TZOFFSETTO:-0400
TZNAME:AST
DTSTART:20231105T050000
END:STANDARD
END:VTIMEZONE
BEGIN:VEVENT
DTSTART;TZID=America/Halifax:20230727T040000
DTEND;TZID=America/Halifax:20230727T053000
DTSTAMP:20260425T141732
CREATED:20230801T161638Z
LAST-MODIFIED:20230801T161645Z
UID:10922-1690430400-1690435800@wee-msme-clearinghouse.com
SUMMARY:Programa de Formación MIPYME en Línea
DESCRIPTION:
URL:https://wee-msme-clearinghouse.com/event/programa-de-formacion-mipyme-en-linea-2/
CATEGORIES:WEE
ATTACH;FMTTYPE=image/jpeg:https://wee-msme-clearinghouse.com/wp-content/uploads/2023/08/FormacionMipyme-jpg.webp
END:VEVENT
END:VCALENDAR