BEGIN:VCALENDAR
VERSION:2.0
PRODID:-//OAS WEE - ECPv6.13.2.1//NONSGML v1.0//EN
CALSCALE:GREGORIAN
METHOD:PUBLISH
X-WR-CALNAME:OAS WEE
X-ORIGINAL-URL:https://wee-msme-clearinghouse.com
X-WR-CALDESC:Events for OAS WEE
REFRESH-INTERVAL;VALUE=DURATION:PT1H
X-Robots-Tag:noindex
X-PUBLISHED-TTL:PT1H
BEGIN:VTIMEZONE
TZID:America/Halifax
BEGIN:DAYLIGHT
TZOFFSETFROM:-0400
TZOFFSETTO:-0300
TZNAME:ADT
DTSTART:20230312T060000
END:DAYLIGHT
BEGIN:STANDARD
TZOFFSETFROM:-0300
TZOFFSETTO:-0400
TZNAME:AST
DTSTART:20231105T050000
END:STANDARD
END:VTIMEZONE
BEGIN:VEVENT
DTSTART;TZID=America/Halifax:20231026T100000
DTEND;TZID=America/Halifax:20231026T103000
DTSTAMP:20260423T211611
CREATED:20231005T212337Z
LAST-MODIFIED:20231110T175038Z
UID:11558-1698314400-1698316200@wee-msme-clearinghouse.com
SUMMARY:Metaverso y Realidad Aumentada
DESCRIPTION:¿Te interesa conocer sobre el Metaverso y Realidad Aumentada? \n¡Este taller para ti! \nEl Programa “Empoderamiento Económico de las Mujeres en el Triángulo Norte” de la OEA\, con financiamiento del Departamento de Estado de los Estados Unidos y de META\, te invita a conocer más del Metaverso y la realidad aumentada para que puedas aplicarlas en tu modelo de negocio. \nDirigido a instancias de los países del Triángulo Norte \n(Guatemala\, Honduras y El Salvador): \n# 26 de octubre \n9:00 horas\n(CENTROAMÉRICA) \n3 Virtual \n• Empresas lideradas por mujeres\nMujeres jóvenes mayores de edad con interés en emprender \n\nInstituciones del Ecosistema de Desarrollo Empresarial\n(hombres y mujeres que brindan servicios de desarrollo empresarial dirigidos a apoyar a mujeres empresarias y/o emprendedoras)\nEntidades rectoras de la\nMIPYME\n\nQueremos presentar las oportunidades económicas\, de crecimiento y de negocios que ofrece este nuevo mundo digital emergente a las emprendedoras y mujeres jóvenes. \n  \n Enlace de registro
URL:https://wee-msme-clearinghouse.com/event/metaverso-y-realidad-aumentada/
CATEGORIES:WEE
ATTACH;FMTTYPE=image/png:https://wee-msme-clearinghouse.com/wp-content/uploads/2023/10/WEB.png
END:VEVENT
END:VCALENDAR