BEGIN:VCALENDAR
VERSION:2.0
PRODID:-//OAS WEE - ECPv6.13.2.1//NONSGML v1.0//EN
CALSCALE:GREGORIAN
METHOD:PUBLISH
X-ORIGINAL-URL:https://wee-msme-clearinghouse.com
X-WR-CALDESC:Events for OAS WEE
REFRESH-INTERVAL;VALUE=DURATION:PT1H
X-Robots-Tag:noindex
X-PUBLISHED-TTL:PT1H
BEGIN:VTIMEZONE
TZID:America/Halifax
BEGIN:DAYLIGHT
TZOFFSETFROM:-0400
TZOFFSETTO:-0300
TZNAME:ADT
DTSTART:20240310T060000
END:DAYLIGHT
BEGIN:STANDARD
TZOFFSETFROM:-0300
TZOFFSETTO:-0400
TZNAME:AST
DTSTART:20241103T050000
END:STANDARD
END:VTIMEZONE
BEGIN:VEVENT
DTSTART;VALUE=DATE:20240313
DTEND;VALUE=DATE:20240315
DTSTAMP:20260421T172209
CREATED:20240220T173443Z
LAST-MODIFIED:20240220T203945Z
UID:12410-1710288000-1710460799@wee-msme-clearinghouse.com
SUMMARY:VIII Dialogue of High-level MSME Authorities and MSME Internationalization Conference
DESCRIPTION:
URL:https://wee-msme-clearinghouse.com/event/vii-dialogo-interamericano-de-altas-autoridades-de-mipymes-y-conferencia-de-internacionalizacion/
CATEGORIES:WEE
ATTACH;FMTTYPE=image/webp:https://wee-msme-clearinghouse.com/wp-content/uploads/2024/02/ENG.webp
END:VEVENT
END:VCALENDAR