BEGIN:VCALENDAR
VERSION:2.0
PRODID:-//OAS WEE - ECPv6.13.2.1//NONSGML v1.0//EN
CALSCALE:GREGORIAN
METHOD:PUBLISH
X-WR-CALNAME:OAS WEE
X-ORIGINAL-URL:https://wee-msme-clearinghouse.com
X-WR-CALDESC:Events for OAS WEE
REFRESH-INTERVAL;VALUE=DURATION:PT1H
X-Robots-Tag:noindex
X-PUBLISHED-TTL:PT1H
BEGIN:VTIMEZONE
TZID:America/Halifax
BEGIN:DAYLIGHT
TZOFFSETFROM:-0400
TZOFFSETTO:-0300
TZNAME:ADT
DTSTART:20250309T060000
END:DAYLIGHT
BEGIN:STANDARD
TZOFFSETFROM:-0300
TZOFFSETTO:-0400
TZNAME:AST
DTSTART:20251102T050000
END:STANDARD
END:VTIMEZONE
BEGIN:VEVENT
DTSTART;TZID=America/Halifax:20250502T080000
DTEND;TZID=America/Halifax:20250615T170000
DTSTAMP:20260421T122805
CREATED:20250502T154834Z
LAST-MODIFIED:20250502T154834Z
UID:13690-1746172800-1750006800@wee-msme-clearinghouse.com
SUMMARY:Programa Formativo "Todo en Finanzas para MIYPMES"
DESCRIPTION:¡CONVOCATORIA ABIERTA! \n CIERRE: 15 DE JUNIO 2025 \nPROGRAMA DE FORMACION GRATUITA \nDirigido a empresarias de Guatemala\, El Salvador y Honduras. \nAplica a nuestro programa y recibe formación\, acompañamiento y asesoría técnica gratuita en gestión financiera para mipymes. \n\n3 meses – 9 módulos\n100 % virtual\nPlataforma Zoom y Moodle\n\nRequisitos: \n\n Ser mujer empresaria con un negocio de minimo 1 año de funcionamiento.\nTener acceso a internet y a un dispositivo electronico.\nDosposicion para participar en sesiones virtuales.\n\n Postula Aquí
URL:https://wee-msme-clearinghouse.com/event/programa-formativo-todo-en-finanzas-para-miypmes/
CATEGORIES:WEE
ATTACH;FMTTYPE=image/jpeg:https://wee-msme-clearinghouse.com/wp-content/uploads/2025/05/1440x900.jpg
END:VEVENT
END:VCALENDAR