BEGIN:VCALENDAR
VERSION:2.0
PRODID:-//OAS WEE - ECPv6.13.2.1//NONSGML v1.0//EN
CALSCALE:GREGORIAN
METHOD:PUBLISH
X-ORIGINAL-URL:https://wee-msme-clearinghouse.com
X-WR-CALDESC:Events for OAS WEE
REFRESH-INTERVAL;VALUE=DURATION:PT1H
X-Robots-Tag:noindex
X-PUBLISHED-TTL:PT1H
BEGIN:VTIMEZONE
TZID:America/Halifax
BEGIN:DAYLIGHT
TZOFFSETFROM:-0400
TZOFFSETTO:-0300
TZNAME:ADT
DTSTART:20250309T060000
END:DAYLIGHT
BEGIN:STANDARD
TZOFFSETFROM:-0300
TZOFFSETTO:-0400
TZNAME:AST
DTSTART:20251102T050000
END:STANDARD
END:VTIMEZONE
BEGIN:VEVENT
DTSTART;TZID=America/Halifax:20251008T100000
DTEND;TZID=America/Halifax:20251008T110000
DTSTAMP:20260421T203054
CREATED:20251006T203044Z
LAST-MODIFIED:20251006T203044Z
UID:13763-1759917600-1759921200@wee-msme-clearinghouse.com
SUMMARY:CIERRE DEL PROGRAMA “TODO EN FINANZAS PARA MIPYMES”
DESCRIPTION:Asista a la clausura del programa “Todo en Finanzas para MIPYMES”\, destacando los resultados\, alcances y beneficios de este programa. \n📅 08 octubre 2025\n🕙 10:00 horas | hora El Salvador (GMT-6)\n💻 Modalidad virtual \n🔗 Zoom\n🔗 Conoce más del programa WEE
URL:https://wee-msme-clearinghouse.com/event/cierre-del-programa-todo-en-finanzas-para-mipymes/
CATEGORIES:WEE
ATTACH;FMTTYPE=image/jpeg:https://wee-msme-clearinghouse.com/wp-content/uploads/2025/10/post-8-10.jpg
END:VEVENT
END:VCALENDAR